BEGIN:VCALENDAR
VERSION:2.0
PRODID:-//Instituto Ballester - ECPv6.15.20//NONSGML v1.0//EN
CALSCALE:GREGORIAN
METHOD:PUBLISH
X-WR-CALNAME:Instituto Ballester
X-ORIGINAL-URL:https://iballester.edu.ar
X-WR-CALDESC:Eventos para Instituto Ballester
REFRESH-INTERVAL;VALUE=DURATION:PT1H
X-Robots-Tag:noindex
X-PUBLISHED-TTL:PT1H
BEGIN:VTIMEZONE
TZID:America/Argentina/Buenos_Aires
BEGIN:STANDARD
TZOFFSETFROM:-0300
TZOFFSETTO:-0300
TZNAME:-03
DTSTART:20230101T000000
END:STANDARD
END:VTIMEZONE
BEGIN:VEVENT
DTSTART;TZID=America/Argentina/Buenos_Aires:20240612T080000
DTEND;TZID=America/Argentina/Buenos_Aires:20240612T160000
DTSTAMP:20260423T130553
CREATED:20240521T115142Z
LAST-MODIFIED:20240521T122734Z
UID:8057-1718179200-1718208000@iballester.edu.ar
SUMMARY:EDU Alemania 2024
DESCRIPTION:La Feria sobre carreras de grado y formación profesional\npara Argentina y América del Sur\nHace más de 10 años la EDUAlemania convoca a estudiantes de los últimos años de Secundaria a vivir una jornada diferente\, conociendo las propuestas de estudio de Universidades en Alemania\, el Centro de Formación Profesional (BBZ) y el sistema de formación dual. \nDurante los 30 workshops que se realizarán a lo largo de la jornada podrás aclarar éstas y otras dudas sobre tu futura capacitación. Los talleres y charlas estarán a cargo de jóvenes profesionales del BBZ\, Alumni\, representantes de universidades alemanas y argentinas\, empresas capacitadoras\, la Cámara de Industria y Comercio Argentino-Alemana (AHK) y los asesores en estudios superiores de cada institución. \n¡Te esperamos en la EDUAlemania 2024!\nInscripción abierta
URL:https://iballester.edu.ar/evento/edu-alemania-2024/
LOCATION:Instituto Ballester Deutsche Schule -Sede Villa Ballester\, Calle 69 5140\, Villa Ballester\, Buenos Aires\, B1653LXJ\, Argentina
CATEGORIES:IB-Evento
ATTACH;FMTTYPE=image/jpeg:https://iballester.edu.ar/wp-content/uploads/2024/05/EDUAlemania-2024_inscripcion.jpg
END:VEVENT
END:VCALENDAR