BEGIN:VCALENDAR
VERSION:2.0
PRODID:-//Instituto Ballester - ECPv6.15.20//NONSGML v1.0//EN
CALSCALE:GREGORIAN
METHOD:PUBLISH
X-WR-CALNAME:Instituto Ballester
X-ORIGINAL-URL:https://iballester.edu.ar
X-WR-CALDESC:Eventos para Instituto Ballester
REFRESH-INTERVAL;VALUE=DURATION:PT1H
X-Robots-Tag:noindex
X-PUBLISHED-TTL:PT1H
BEGIN:VTIMEZONE
TZID:America/Argentina/Buenos_Aires
BEGIN:STANDARD
TZOFFSETFROM:-0300
TZOFFSETTO:-0300
TZNAME:-03
DTSTART:20250101T000000
END:STANDARD
END:VTIMEZONE
BEGIN:VEVENT
DTSTART;TZID=America/Argentina/Buenos_Aires:20260516T150000
DTEND;TZID=America/Argentina/Buenos_Aires:20260516T180000
DTSTAMP:20260423T151237
CREATED:20260420T191635Z
LAST-MODIFIED:20260420T193005Z
UID:11449-1778943600-1778954400@iballester.edu.ar
SUMMARY:Día de Puertas Abiertas
DESCRIPTION:¡Se viene el Día del Amigo en el IB!\nCelebremos juntos en el Kindergarten\nSe acerca una de las fechas más divertidas del año para nuestro Nivel Inicial y queremos invitar a toda la comunidad a compartir dos tardes inolvidables. Durante el mes de mayo\, abrimos las puertas del Jardín para celebrar la amistad con juegos\, música y sorpresas. \n¿Lo mejor de esta propuesta? ¡Cada chico puede venir acompañado por un amigo de su edad para multiplicar la diversión! \nLos encuentros se realizarán de 15:00 a 18:00 h en la sede del Jardín de Infantes en Villa Ballester\, dirección C. 122 2950 (Gral. Roca 30)\, Villa Ballester\, con la clásica modalidad de comida a la canasta para que podamos armar una gran merienda compartida. \nPara que todos disfruten de propuestas pensadas especialmente para su edad\, dividimos los festejos de la siguiente manera: \n\n9 de mayo | Salas de 4 y 5 años: Abriremos la tarde al ritmo de las tradicionales danzas alemanas. Después\, los chicos van a poder animarse al Túnel del terror\, jugar al Bingo\, pasar por el sector de Maquillaje artístico ¡y descubrir muchas propuestas más! El cierre musical será a lo grande\, a cargo de la Orquesta de Familias del Jardín.\n16 de mayo | Salas de 1\, 2 y 3 años: Daremos comienzo con una hermosa presentación de danzas típicas para recibir a las familias. Luego\, los más chiquitos tendrán espacios lúdicos diseñados para ellos: podrán explorar la Sala flúo\, divertirse en la Estación del mar y jugar en la Pista de autos\, entre otras actividades. El broche de oro\, por supuesto\, también lo pondrá nuestra Orquesta de Familias.\n\n¿Cómo participar?\nEl evento es abierto a toda la comunidad. Para confirmar asistencia e inscribirse\, pueden escribirnos por mail a admisiones@iballester.edu.ar o comunicarse por WhatsApp: +54 9 11 5274-5001. \n¡Los esperamos para vivir dos tardes espectaculares \na puro juego y amistad!\n 
URL:https://iballester.edu.ar/evento/dia-de-puertas-abiertas-16may26/
LOCATION:Kindergarten – Sede Villa Ballester\, C. 122 2950\, Villa Ballester\, Buenos Aires\, B1653\, Argentina
CATEGORIES:IB-Evento,KIGA
ATTACH;FMTTYPE=image/jpeg:https://iballester.edu.ar/wp-content/uploads/2026/04/IBallester_Dia-de-Puertas-Abiertas.jpg
ORGANIZER;CN="Intituto Ballester Deutsche Schule":MAILTO:desarrollo.institucional@iballester.edu.ar
END:VEVENT
END:VCALENDAR