BEGIN:VCALENDAR
VERSION:2.0
PRODID:-//Instituto Ballester - ECPv6.15.20//NONSGML v1.0//EN
CALSCALE:GREGORIAN
METHOD:PUBLISH
X-WR-CALNAME:Instituto Ballester
X-ORIGINAL-URL:https://iballester.edu.ar
X-WR-CALDESC:Eventos para Instituto Ballester
REFRESH-INTERVAL;VALUE=DURATION:PT1H
X-Robots-Tag:noindex
X-PUBLISHED-TTL:PT1H
BEGIN:VTIMEZONE
TZID:America/Argentina/Buenos_Aires
BEGIN:STANDARD
TZOFFSETFROM:-0300
TZOFFSETTO:-0300
TZNAME:-03
DTSTART:20240101T000000
END:STANDARD
END:VTIMEZONE
BEGIN:VEVENT
DTSTART;TZID=America/Argentina/Buenos_Aires:20251206T110000
DTEND;TZID=America/Argentina/Buenos_Aires:20251206T180000
DTSTAMP:20260423T203041
CREATED:20251022T120036Z
LAST-MODIFIED:20251022T144039Z
UID:11044-1765018800-1765044000@iballester.edu.ar
SUMMARY:Weihnachtsmarkt 2025
DESCRIPTION:¡Ya llega el Weihnachtsmarkt 2025!\nEl sábado 6 de diciembre\, de 11 a 18 h\, realizaremos nuestra feria navideña en la sede Villa Adelina (Ingeniero Silveyra 3739\, Carapachay). \nAl evento asistirán feriantes de diversos rubros. \n¡Los esperamos!
URL:https://iballester.edu.ar/evento/weihnachtsmarkt-2025/
LOCATION:Instituto Ballester Deutsche Schule – Sede Villa Adelina\, Ing. Silveyra 3739\, Carapachay\, Buenos Aires\, B1606DFI\, Argentina
CATEGORIES:IB-Evento
ATTACH;FMTTYPE=image/jpeg:https://iballester.edu.ar/wp-content/uploads/2025/10/Poster-WMKT_2025_web.jpg
ORGANIZER;CN="Intituto Ballester Deutsche Schule":MAILTO:desarrollo.institucional@iballester.edu.ar
END:VEVENT
BEGIN:VEVENT
DTSTART;TZID=America/Argentina/Buenos_Aires:20260412T150000
DTEND;TZID=America/Argentina/Buenos_Aires:20260412T180000
DTSTAMP:20260423T203041
CREATED:20260407T155035Z
LAST-MODIFIED:20260407T155035Z
UID:11417-1776006000-1776016800@iballester.edu.ar
SUMMARY:Torneo de Cartas
DESCRIPTION:El domingo 12 de abril\, a partir de las 15 h\, se realizará un torneo de truco\, chinchón y UNO en nuestra sede Villa Adelina (Ingeniero Silveyra 3739\, Carapachay) \n¡Evento abierto a toda la comunidad!\nEl valor de la entrada es de $3.000 por jugador. \nLink de inscripción aqui. 🔗 \n¡Los esperamos!
URL:https://iballester.edu.ar/evento/torneo-de-cartas/
LOCATION:Instituto Ballester Deutsche Schule – Sede Villa Adelina\, Ing. Silveyra 3739\, Carapachay\, Buenos Aires\, B1606DFI\, Argentina
CATEGORIES:IB-Evento
ATTACH;FMTTYPE=image/jpeg:https://iballester.edu.ar/wp-content/uploads/2026/04/Torneo-de-cartas-horizontal.jpg
ORGANIZER;CN="Intituto Ballester Deutsche Schule":MAILTO:desarrollo.institucional@iballester.edu.ar
END:VEVENT
BEGIN:VEVENT
DTSTART;TZID=America/Argentina/Buenos_Aires:20260509T090000
DTEND;TZID=America/Argentina/Buenos_Aires:20260509T150000
DTSTAMP:20260423T203041
CREATED:20260415T175041Z
LAST-MODIFIED:20260415T184558Z
UID:11429-1778317200-1778338800@iballester.edu.ar
SUMMARY:XLVIII Cross Country - 48. Geländelauf
DESCRIPTION:¡Sumate al XLVIII Cross Country – 48. Geländelauf!\nEl Instituto Ballester Deutsche Schule y la Sociedad Alemana de Gimnasia de Villa Ballester (SAGVB) tienen el agrado de invitar a toda la comunidad a una nueva edición de este tradicional torneo atlético. Se trata de un evento deportivo con un espíritu participativo\, inclusivo\, colegial\, federado y familiar. \nLa fecha es el sábado 9 de mayo de 2026. La ceremonia de apertura comenzará a las 9:00 h. (En caso de lluvia\, la fecha alternativa será el sábado 16 de mayo ). El evento se realizará en las instalaciones del club SAGVB\, ubicadas en Av. Márquez y 9 de Julio\, Villa Ballester. \n¿Quiénes pueden participar?  \nEl torneo está abierto a una gran variedad de corredores: \n\nAlumnos regulares de las escuelas que conforman la Comunidad de Trabajo Argentino – Alemana.\nAdultos de los establecimientos educativos\, socios de los clubes del D.T.S.V. e invitados especiales.\nLas categorías competitivas abarcan desde menores de 9 años hasta adultos mayores.\n\n  \n¡Novedad: Familien Cross!\nPara aquellos que buscan una experiencia más recreativa\, contaremos con la carrera «Familien Cross». Invitamos a las familias a correr juntas desde la largada hasta la meta en un recorrido adaptado de 1200 metros. Esta categoría especial no requiere de inscripción previa y no tiene costo de participación. \n  \nInscripciones y Costos:  \n\nPara los alumnos\, alumni y padres del Instituto Ballester\, la inscripción es totalmente gratuita.\nLos alumni y padres que deseen participar en las categorías competitivas deben inscribirse enviando un correo electrónico a educacion.fisica@iballester.edu.ar o a rodolfo.cergnul@iballester.edu.ar.\nLas instituciones invitadas deben presentar sus planillas correspondientes.\nEl cierre para las inscripciones es el jueves 7 de mayo.\n\n  \nPara disfrutar el día: Además de las competencias\, el lugar contará con los tradicionales puestos de comida alemana\, parrilla\, bebidas\, tortas y café organizados por la SAGVB. También se dispondrá de estacionamiento arancelado para mayor comodidad. \n¡Los esperamos para compartir una jornada deportiva inolvidable!\n 
URL:https://iballester.edu.ar/evento/xlviii-cross-country-48-gelandelauf/
LOCATION:SAGVB – Sociedad Alemana de Gimnasia de Villa Ballester\, C. 101 9 de Julio 6200\, Villa Coronel José María Zapiola\, Provincia de Buenos Aires\, B1653\, Argentina
CATEGORIES:IB-Evento
ATTACH;FMTTYPE=image/jpeg:https://iballester.edu.ar/wp-content/uploads/2026/04/Cross-Country-poster.jpg
ORGANIZER;CN="Intituto Ballester Deutsche Schule":MAILTO:desarrollo.institucional@iballester.edu.ar
END:VEVENT
BEGIN:VEVENT
DTSTART;TZID=America/Argentina/Buenos_Aires:20260509T150000
DTEND;TZID=America/Argentina/Buenos_Aires:20260509T180000
DTSTAMP:20260423T203041
CREATED:20260420T190432Z
LAST-MODIFIED:20260420T193002Z
UID:11441-1778338800-1778349600@iballester.edu.ar
SUMMARY:Día de Puertas Abiertas
DESCRIPTION:¡Se viene el Día del Amigo en el IB!\nCelebremos juntos en el Kindergarten\nSe acerca una de las fechas más divertidas del año para nuestro Nivel Inicial y queremos invitar a toda la comunidad a compartir dos tardes inolvidables. Durante el mes de mayo\, abrimos las puertas del Jardín para celebrar la amistad con juegos\, música y sorpresas. \n¿Lo mejor de esta propuesta? ¡Cada chico puede venir acompañado por un amigo de su edad para multiplicar la diversión! \nLos encuentros se realizarán de 15:00 a 18:00 h en la sede del Jardín de Infantes en Villa Ballester\, dirección C. 122 2950 (Gral. Roca 30)\, Villa Ballester\, con la clásica modalidad de comida a la canasta para que podamos armar una gran merienda compartida. \nPara que todos disfruten de propuestas pensadas especialmente para su edad\, dividimos los festejos de la siguiente manera: \n\n9 de mayo | Salas de 4 y 5 años: Abriremos la tarde al ritmo de las tradicionales danzas alemanas. Después\, los chicos van a poder animarse al Túnel del terror\, jugar al Bingo\, pasar por el sector de Maquillaje artístico ¡y descubrir muchas propuestas más! El cierre musical será a lo grande\, a cargo de la Orquesta de Familias del Jardín.\n16 de mayo | Salas de 1\, 2 y 3 años: Daremos comienzo con una hermosa presentación de danzas típicas para recibir a las familias. Luego\, los más chiquitos tendrán espacios lúdicos diseñados para ellos: podrán explorar la Sala flúo\, divertirse en la Estación del mar y jugar en la Pista de autos\, entre otras actividades. El broche de oro\, por supuesto\, también lo pondrá nuestra Orquesta de Familias.\n\n¿Cómo participar?\nEl evento es abierto a toda la comunidad. Para confirmar asistencia e inscribirse\, pueden escribirnos por mail a admisiones@iballester.edu.ar o comunicarse por WhatsApp: +54 9 11 5274-5001. \n¡Los esperamos para vivir dos tardes espectaculares \na puro juego y amistad!\n 
URL:https://iballester.edu.ar/evento/dia-de-puertas-abiertas-9may26/
LOCATION:Kindergarten – Sede Villa Ballester\, C. 122 2950\, Villa Ballester\, Buenos Aires\, B1653\, Argentina
CATEGORIES:IB-Evento,KIGA
ATTACH;FMTTYPE=image/jpeg:https://iballester.edu.ar/wp-content/uploads/2026/04/IBallester_Dia-de-Puertas-Abiertas.jpg
ORGANIZER;CN="Intituto Ballester Deutsche Schule":MAILTO:desarrollo.institucional@iballester.edu.ar
END:VEVENT
BEGIN:VEVENT
DTSTART;TZID=America/Argentina/Buenos_Aires:20260516T150000
DTEND;TZID=America/Argentina/Buenos_Aires:20260516T180000
DTSTAMP:20260423T203041
CREATED:20260420T191635Z
LAST-MODIFIED:20260420T193005Z
UID:11449-1778943600-1778954400@iballester.edu.ar
SUMMARY:Día de Puertas Abiertas
DESCRIPTION:¡Se viene el Día del Amigo en el IB!\nCelebremos juntos en el Kindergarten\nSe acerca una de las fechas más divertidas del año para nuestro Nivel Inicial y queremos invitar a toda la comunidad a compartir dos tardes inolvidables. Durante el mes de mayo\, abrimos las puertas del Jardín para celebrar la amistad con juegos\, música y sorpresas. \n¿Lo mejor de esta propuesta? ¡Cada chico puede venir acompañado por un amigo de su edad para multiplicar la diversión! \nLos encuentros se realizarán de 15:00 a 18:00 h en la sede del Jardín de Infantes en Villa Ballester\, dirección C. 122 2950 (Gral. Roca 30)\, Villa Ballester\, con la clásica modalidad de comida a la canasta para que podamos armar una gran merienda compartida. \nPara que todos disfruten de propuestas pensadas especialmente para su edad\, dividimos los festejos de la siguiente manera: \n\n9 de mayo | Salas de 4 y 5 años: Abriremos la tarde al ritmo de las tradicionales danzas alemanas. Después\, los chicos van a poder animarse al Túnel del terror\, jugar al Bingo\, pasar por el sector de Maquillaje artístico ¡y descubrir muchas propuestas más! El cierre musical será a lo grande\, a cargo de la Orquesta de Familias del Jardín.\n16 de mayo | Salas de 1\, 2 y 3 años: Daremos comienzo con una hermosa presentación de danzas típicas para recibir a las familias. Luego\, los más chiquitos tendrán espacios lúdicos diseñados para ellos: podrán explorar la Sala flúo\, divertirse en la Estación del mar y jugar en la Pista de autos\, entre otras actividades. El broche de oro\, por supuesto\, también lo pondrá nuestra Orquesta de Familias.\n\n¿Cómo participar?\nEl evento es abierto a toda la comunidad. Para confirmar asistencia e inscribirse\, pueden escribirnos por mail a admisiones@iballester.edu.ar o comunicarse por WhatsApp: +54 9 11 5274-5001. \n¡Los esperamos para vivir dos tardes espectaculares \na puro juego y amistad!\n 
URL:https://iballester.edu.ar/evento/dia-de-puertas-abiertas-16may26/
LOCATION:Kindergarten – Sede Villa Ballester\, C. 122 2950\, Villa Ballester\, Buenos Aires\, B1653\, Argentina
CATEGORIES:IB-Evento,KIGA
ATTACH;FMTTYPE=image/jpeg:https://iballester.edu.ar/wp-content/uploads/2026/04/IBallester_Dia-de-Puertas-Abiertas.jpg
ORGANIZER;CN="Intituto Ballester Deutsche Schule":MAILTO:desarrollo.institucional@iballester.edu.ar
END:VEVENT
END:VCALENDAR