BEGIN:VCALENDAR
VERSION:2.0
PRODID:-//Instituto Ballester - ECPv6.15.20//NONSGML v1.0//EN
CALSCALE:GREGORIAN
METHOD:PUBLISH
X-ORIGINAL-URL:https://iballester.edu.ar
X-WR-CALDESC:Eventos para Instituto Ballester
REFRESH-INTERVAL;VALUE=DURATION:PT1H
X-Robots-Tag:noindex
X-PUBLISHED-TTL:PT1H
BEGIN:VTIMEZONE
TZID:America/Argentina/Buenos_Aires
BEGIN:STANDARD
TZOFFSETFROM:-0300
TZOFFSETTO:-0300
TZNAME:-03
DTSTART:20230101T000000
END:STANDARD
END:VTIMEZONE
BEGIN:VEVENT
DTSTART;VALUE=DATE:20240625
DTEND;VALUE=DATE:20240629
DTSTAMP:20260424T214441
CREATED:20240610T235640Z
LAST-MODIFIED:20240611T000756Z
UID:8114-1719273600-1719619199@iballester.edu.ar
SUMMARY:MINT Woche 2024
DESCRIPTION:Del 25 al 28 de junio próximo se llevará a cabo en ambas Primarias la Semana MINT 2024. Este evento especial nos convoca a celebrar el mundo de la ciencia a la luz de los proyectos y descubrimientos de nuestros alumnos. \nLa ciencia es una parte fundamental de la educación en nuestra escuela. Al participar en proyectos MINT\, los estudiantes no solo adquieren conocimientos sobre conceptos fundamentales de las ciencias naturales\, las matemáticas\, la informática y la tecnología\, sino que también desarrollan habilidades críticas como el pensamiento analítico\, la resolución de problemas y la creatividad. \nLa Semana MINT es una oportunidad para que los chicos muestren su trabajo\, pero también para que la familia participe y apoye su aprendizaje. Las familias podrán disfrutar del entusiasmo y la creatividad de nuestros jóvenes científicos. \n  \nDescubre MINT\n  \nM. Laura Ragucci\nCoordinadora MINT & Escuela Digital \n 
URL:https://iballester.edu.ar/evento/mint-woche-2024/
LOCATION:Buenos Aires
CATEGORIES:IB-Evento
ATTACH;FMTTYPE=image/jpeg:https://iballester.edu.ar/wp-content/uploads/2024/06/MINT-woche-2024_facebook.jpg
ORGANIZER;CN="Intituto Ballester Deutsche Schule":MAILTO:desarrollo.institucional@iballester.edu.ar
END:VEVENT
END:VCALENDAR