BEGIN:VCALENDAR
VERSION:2.0
PRODID:-//Instituto Ballester - ECPv6.15.20//NONSGML v1.0//EN
CALSCALE:GREGORIAN
METHOD:PUBLISH
X-WR-CALNAME:Instituto Ballester
X-ORIGINAL-URL:https://iballester.edu.ar
X-WR-CALDESC:Eventos para Instituto Ballester
REFRESH-INTERVAL;VALUE=DURATION:PT1H
X-Robots-Tag:noindex
X-PUBLISHED-TTL:PT1H
BEGIN:VTIMEZONE
TZID:America/Argentina/Buenos_Aires
BEGIN:STANDARD
TZOFFSETFROM:-0300
TZOFFSETTO:-0300
TZNAME:-03
DTSTART:20230101T000000
END:STANDARD
END:VTIMEZONE
BEGIN:VEVENT
DTSTART;TZID=America/Argentina/Buenos_Aires:20241026T183000
DTEND;TZID=America/Argentina/Buenos_Aires:20241026T235900
DTSTAMP:20260424T140652
CREATED:20240905T144823Z
LAST-MODIFIED:20240930T210130Z
UID:8543-1729967400-1729987140@iballester.edu.ar
SUMMARY:Alumni Treffen 2024
DESCRIPTION:El Alumni Treffen es una reunión para reencontrarse\, compartir recuerdos y celebrar los lazos creados durante los años de estudio.\nEste año habrá música en vivo\, comida rica\, cerveza artesanal y muchas cosas más para disfrutar y revivir las anécdotas vividas en el colegio. \nEs una ocasión perfecta para reencontrarse con viejos amigos\, conocer las novedades del colegio y disfrutar de una noche llena de lindos momentos. \nEsperamos a todos los Alumni a disfrutar del Alumni-Treffen a las 20:30hs y las camadas que reciben medallas se hará la entrega 18:30hs. \nEntrega de medallas en el AULA MAGNA para las promociones aniversario:\n1964 – 60 años | 1974 – 50 años | 1984 – 40 años | 1994 – 30 años | 1999 – 25 años | 2004 – 20 años | 2014 – 10 años \n¡Los esperamos!💛\nPor favor confirmar asistencia al mail: ballester.alumni@iballester.edu.ar✨
URL:https://iballester.edu.ar/evento/alumni-treffen-2024/
LOCATION:Instituto Ballester Deutsche Schule -Sede Villa Ballester\, Calle 69 5140\, Villa Ballester\, Buenos Aires\, B1653LXJ\, Argentina
CATEGORIES:IB-Evento
ATTACH;FMTTYPE=image/jpeg:https://iballester.edu.ar/wp-content/uploads/2024/09/Alumni-treffen-2024_evento.jpg
ORGANIZER;CN="Ballester Alumni":MAILTO:ballester.alummni@iballester.edu.ar
END:VEVENT
END:VCALENDAR