BEGIN:VCALENDAR
VERSION:2.0
PRODID:-//Instituto Ballester - ECPv6.15.20//NONSGML v1.0//EN
CALSCALE:GREGORIAN
METHOD:PUBLISH
X-WR-CALNAME:Instituto Ballester
X-ORIGINAL-URL:https://iballester.edu.ar/de/
X-WR-CALDESC:Veranstaltungen für Instituto Ballester
REFRESH-INTERVAL;VALUE=DURATION:PT1H
X-Robots-Tag:noindex
X-PUBLISHED-TTL:PT1H
BEGIN:VTIMEZONE
TZID:America/Argentina/Buenos_Aires
BEGIN:STANDARD
TZOFFSETFROM:-0300
TZOFFSETTO:-0300
TZNAME:-03
DTSTART:20230101T000000
END:STANDARD
END:VTIMEZONE
BEGIN:VEVENT
DTSTART;TZID=America/Argentina/Buenos_Aires:20241108T200000
DTEND;TZID=America/Argentina/Buenos_Aires:20241108T210000
DTSTAMP:20260424T121821
CREATED:20240930T210008Z
LAST-MODIFIED:20240930T210008Z
UID:8713-1731096000-1731099600@iballester.edu.ar
SUMMARY:Laternenfest 2024
DESCRIPTION:Jedes Jahr am 11. November wird in Deutschland und anderen europäischen Ländern das traditionelle Laternenfest gefeiert. Kinder basteln aus Pappe\, Papier\, einer Kerze und einem Stück Draht eine Laterne\, die ihnen in der Nacht des St. Martinstages den Weg leuchtet. In diesem Jahr findet das Fest am 8. November am Standort Villa Adelina statt\, unter Beteiligung und Organisation der Kindergartenkinder beider Standorte.Übersetzt mit DeepL.com (kostenlose Version)     \nÜber die Tradition:\n Der Sankt Martin’s Tag (oder Laternenfest) wird in Deutschland jedes Jahr am 11. November gefeiert. Die Hauptfeier findet nach Einbruch der Dunkelheit statt\, wenn Kinder verschiedener Altersgruppen mit Papierlaternen von Haus zu Haus ziehen. In Süddeutschland beginnt das Fest heute in der Regel in den Kindergärten mit einem besonderen Gottesdienst für Familien am St. Martinstag. Anschließend ziehen Kinder und Eltern mit ihren Laternen singend durch die Nachbarschaft. Es gibt sogar ein „Martinsfeuer“ und eine kleine Brotzeit. Ein paar Tage vorher treffen sich Eltern mit ihren Kindern im Kindergarten\, um die Laternen zu basteln. Auch die typische Martinsgans wird gegessen. In anderen Teilen des Landes folgen die Menschen St. Martin auf dem Pferderücken und essen am Ende des Ritts süßes Brot mit Sultaninen. Oft gibt es Theatervorstellungen\, in denen St. Martin als Soldat dargestellt wird\, der die Hälfte seines Mantels an einen Bettler verschenkt.
URL:https://iballester.edu.ar/de/evento/laternenfest-2024/
LOCATION:Instituto Ballester Deutsche Schule – Sede Villa Adelina\, Ing. Silveyra 3739\, Carapachay\, Buenos Aires\, B1606DFI\, Argentina
CATEGORIES:IB-Veranstaltung
ATTACH;FMTTYPE=image/jpeg:https://iballester.edu.ar/wp-content/uploads/2024/09/Laternenfest_2024-evento-01.jpg
ORGANIZER;CN="Intituto Ballester Deutsche Schule":MAILTO:desarrollo.institucional@iballester.edu.ar
END:VEVENT
BEGIN:VEVENT
DTSTART;TZID=America/Argentina/Buenos_Aires:20241123T110000
DTEND;TZID=America/Argentina/Buenos_Aires:20241123T170000
DTSTAMP:20260424T121821
CREATED:20241103T223909Z
LAST-MODIFIED:20241103T223909Z
UID:8831-1732359600-1732381200@iballester.edu.ar
SUMMARY:Weihnachtsmarkt 2024
DESCRIPTION:Der Weihnachtsmarkt ist wieder da!\nAm Samstag\, den 23. November\, findet von 11 bis 17 Uhr unser Weihnachtsmarkt im Standort Villa Ballester in der Calle 69\, N° 5140 (ex San Martín 444)\, Villa Ballester statt. An der Veranstaltung werden mehr als fünfzig Stände aus verschiedenen Bereichen teilnehmen. \nWir freuen uns auf Ihren Besuch!\n 
URL:https://iballester.edu.ar/de/evento/weihnachtsmarkt-2024/
LOCATION:Instituto Ballester Deutsche Schule -Sede Villa Ballester\, Calle 69 5140\, Villa Ballester\, Buenos Aires\, B1653LXJ\, Argentina
CATEGORIES:IB-Veranstaltung
ATTACH;FMTTYPE=image/jpeg:https://iballester.edu.ar/wp-content/uploads/2024/10/Weihnachtsmarkt-2024.jpg
ORGANIZER;CN="Intituto Ballester Deutsche Schule":MAILTO:desarrollo.institucional@iballester.edu.ar
END:VEVENT
END:VCALENDAR